BEGIN:VCALENDAR
VERSION:2.0
PRODID:-//Département de mathématiques et applications - ECPv6.2.2//NONSGML v1.0//EN
CALSCALE:GREGORIAN
METHOD:PUBLISH
X-ORIGINAL-URL:https://www.math.ens.psl.eu
X-WR-CALDESC:évènements pour Département de mathématiques et applications
REFRESH-INTERVAL;VALUE=DURATION:PT1H
X-Robots-Tag:noindex
X-PUBLISHED-TTL:PT1H
BEGIN:VTIMEZONE
TZID:Europe/Paris
BEGIN:DAYLIGHT
TZOFFSETFROM:+0100
TZOFFSETTO:+0200
TZNAME:CEST
DTSTART:20240331T010000
END:DAYLIGHT
BEGIN:STANDARD
TZOFFSETFROM:+0200
TZOFFSETTO:+0100
TZNAME:CET
DTSTART:20241027T010000
END:STANDARD
END:VTIMEZONE
BEGIN:VEVENT
DTSTART;TZID=Europe/Paris:20241205T120000
DTEND;TZID=Europe/Paris:20241205T130000
DTSTAMP:20260426T042601
CREATED:20241203T090346Z
LAST-MODIFIED:20241203T090347Z
UID:18724-1733400000-1733403600@www.math.ens.psl.eu
SUMMARY:ENS-Data Science colloquium - Jean-Rémi King
DESCRIPTION:Jean-Rémi King (CNRS\, ENS & Meta AI) \n\n\n\nTitle:AI and Neuroscience: in search of the laws of intelligenceAbstract: In just a few years\, AI has transitioned from a specialized field into a transformative force for industries and society. Beyond this technical progress\, the development of AI provides a new paradigm to understand the intricate workings of the human brain. To illustrate this\, we will delve into a series of experiments that systematically compare deep learning algorithms with the human brain in response to images\, sounds\, and texts. These comparisons consistently show a partial convergence between the representations learned by AI algorithms and those effectively instantiated in our cortex. These results — largely unexpected by both the AI and Neuroscience communities — together provide an operational foundation for uncovering the general principles that govern the acquisition\, structuring\, and manipulation of knowledge in biological and artificial neural networks.
URL:https://www.math.ens.psl.eu/evenement/ens-data-science-colloquium-jean-remi-king/
LOCATION:ENS Salle Dussane
CATEGORIES:Séminaire Data de l’ENS
END:VEVENT
END:VCALENDAR