BEGIN:VCALENDAR
VERSION:2.0
PRODID:-//Département de mathématiques et applications - ECPv6.2.2//NONSGML v1.0//EN
CALSCALE:GREGORIAN
METHOD:PUBLISH
X-WR-CALNAME:Département de mathématiques et applications
X-ORIGINAL-URL:https://www.math.ens.psl.eu
X-WR-CALDESC:évènements pour Département de mathématiques et applications
REFRESH-INTERVAL;VALUE=DURATION:PT1H
X-Robots-Tag:noindex
X-PUBLISHED-TTL:PT1H
BEGIN:VTIMEZONE
TZID:Europe/Paris
BEGIN:DAYLIGHT
TZOFFSETFROM:+0100
TZOFFSETTO:+0200
TZNAME:CEST
DTSTART:20250330T010000
END:DAYLIGHT
BEGIN:STANDARD
TZOFFSETFROM:+0200
TZOFFSETTO:+0100
TZNAME:CET
DTSTART:20251026T010000
END:STANDARD
END:VTIMEZONE
BEGIN:VEVENT
DTSTART;TZID=Europe/Paris:20250121T140000
DTEND;TZID=Europe/Paris:20250121T150000
DTSTAMP:20260425T181449
CREATED:20250117T125856Z
LAST-MODIFIED:20250117T125856Z
UID:18879-1737468000-1737471600@www.math.ens.psl.eu
SUMMARY:Séminaire des doctorants / post-doctorants du CSD : Marien Renaud
DESCRIPTION:Title: Plug-and-Play image restoration with Stochastic deNOising REgularization.\n  \nAbstract: Plug-and-Play (PnP) algorithms are a class of iterative algorithms that address image inverse problems by combining a physical model and a deep neural network for regularization. Even if they produce impressive image restoration results\, these algorithms rely on a non-standard use of a denoiser on images that are less and less noisy along the iterations\, which contrasts with recent algorithms based on Diffusion Models (DM)\, where the denoiser is applied only on re-noised images. In this presentation\, we propose a new PnP framework\, called Stochastic deNOising REgularization (SNORE)\, which applies the denoiser only on images with noise of the adequate level. It is based on an explicit stochastic regularization\, which leads to a stochastic gradient descent algorithm to solve ill-posed inverse problems. SNORE can be interpreted as imposing equivariance on the underlying prior. A convergence analysis of this algorithm and its proximal extension are provided. Experimentally\, we prove that SNORE is competitive with respect to state-of-the-art methods on deblurring and inpainting tasks\,both quantitatively and qualitatively.\n 
URL:https://www.math.ens.psl.eu/evenement/seminaire-des-doctorants-post-doctorants-du-csd-marien-renaud/
LOCATION:CSD Conference room
CATEGORIES:CSD seminar
END:VEVENT
END:VCALENDAR