BEGIN:VCALENDAR
VERSION:2.0
PRODID:-//Département de mathématiques et applications - ECPv6.2.2//NONSGML v1.0//EN
CALSCALE:GREGORIAN
METHOD:PUBLISH
X-WR-CALNAME:Département de mathématiques et applications
X-ORIGINAL-URL:https://www.math.ens.psl.eu
X-WR-CALDESC:évènements pour Département de mathématiques et applications
REFRESH-INTERVAL;VALUE=DURATION:PT1H
X-Robots-Tag:noindex
X-PUBLISHED-TTL:PT1H
BEGIN:VTIMEZONE
TZID:Europe/Paris
BEGIN:DAYLIGHT
TZOFFSETFROM:+0100
TZOFFSETTO:+0200
TZNAME:CEST
DTSTART:20140330T010000
END:DAYLIGHT
BEGIN:STANDARD
TZOFFSETFROM:+0200
TZOFFSETTO:+0100
TZNAME:CET
DTSTART:20141026T010000
END:STANDARD
BEGIN:DAYLIGHT
TZOFFSETFROM:+0100
TZOFFSETTO:+0200
TZNAME:CEST
DTSTART:20150329T010000
END:DAYLIGHT
BEGIN:STANDARD
TZOFFSETFROM:+0200
TZOFFSETTO:+0100
TZNAME:CET
DTSTART:20151025T010000
END:STANDARD
END:VTIMEZONE
BEGIN:VEVENT
DTSTART;TZID=Europe/Paris:20150612T160000
DTEND;TZID=Europe/Paris:20150612T160000
DTSTAMP:20260425T160814
CREATED:20150612T140000Z
LAST-MODIFIED:20211104T095608Z
UID:8222-1434124800-1434124800@www.math.ens.psl.eu
SUMMARY:Comptage en théorie des groupes et imaginaires p-adiques
DESCRIPTION:Travail en commun avec Ehud Hrushovski et Ben Martin.Sous certaines hypothèses sur un groupe G\, on peut montrer que le nombre de sous-groupes de G d’indice p^n (que l’on note a_n) est fini. Pour étudier la croissance des a_n\, on s’intéresse à la série ?_{p\,G}(s) = sum_n a_n t^n dont la rationalité a été démontrée par Grunewald\, Segal et Smith (1988). Leur preuve consiste à réécrire cette somme comme une intégrale p-adique à paramètres et à utiliser un résultat de Denef (1984) sur la rationalité des telles intégrales. On peut aussi démontrer que de tels résultats de rationalité sont uniformes en p.Le but de cet exposé sera d’expliquer une méthode générale pour démontrer de tels résultats de comptage (uniformes en p) qui permet de retrouver les résultats connus en en simplifiant la preuve et de prouver de nouveaux résultats (par exemple sur le comptage des représentations). Cette méthode générale utilise toujours le résultat de rationalité de Denef et un nouvel ingrédient modèle théorique: l’élimination (uniforme) des imaginaires p-adiques.
URL:https://www.math.ens.psl.eu/evenement/comptage-en-theorie-des-groupes-et-imaginaires-p-adiques/
LOCATION:Batiment Sophie Germain salle 2015 (angle avenue de France et rue Alice Domon 75013 Paris)
CATEGORIES:Séminaire Géométrie et théorie des modèles
END:VEVENT
BEGIN:VEVENT
DTSTART;TZID=Europe/Paris:20150612T140000
DTEND;TZID=Europe/Paris:20150612T140000
DTSTAMP:20260425T160814
CREATED:20150612T120000Z
LAST-MODIFIED:20211104T095554Z
UID:8221-1434117600-1434117600@www.math.ens.psl.eu
SUMMARY:Diagonales\, congruences `à la Lucas' et indépendance algébrique
DESCRIPTION:Les diagonales de fractions rationnelles forment une classe de fonctions analytiques se situant au confluent de plusieurs grands thèmes : la combinatoire énumérative\, la théorie des équations différentielles\, l’arithmétique\, la géométrie algébrique et l’informatique théorique. Lorsque leurs coefficients sont des nombres rationnels\, ces séries ont la propriété remarquable d’être algébriques modulo presque tout nombre premier p. La façon dont leur degré d’algébricité varie en fonction de p est source de nombreuses questions. En particulier\, des exemples de diagonales de fractions rationnelles ayant un `grand degré modulo p’ peuvent être mis en évidence à l’aide de séries vérifiant certaines congruences introduites par Lucas. J’expliquerai comment ces congruences conduisent à des résultats d’indépendance algébrique pour certaines classes de G-fonctions. Il s’agit de travaux communs avec J. Bell et E. Delaygue.
URL:https://www.math.ens.psl.eu/evenement/diagonales-congruences-a-la-lucas-et-independance-algebrique/
LOCATION:Batiment Sophie Germain salle 2015 (angle avenue de France et rue Alice Domon 75013 Paris)
CATEGORIES:Séminaire Géométrie et théorie des modèles
END:VEVENT
BEGIN:VEVENT
DTSTART;TZID=Europe/Paris:20150612T103000
DTEND;TZID=Europe/Paris:20150612T103000
DTSTAMP:20260425T160814
CREATED:20150612T083000Z
LAST-MODIFIED:20211104T095609Z
UID:8223-1434105000-1434105000@www.math.ens.psl.eu
SUMMARY:Décomposition de types dans les théories NIP
DESCRIPTION:La classe des théories NIP — définie par Shelah dans les années 70 — contient celles des théories stables et des théories o-minimales. On pense souvent à NIP comme étant une combinaison de stabilité et de o-minimalité. Dans cet exposé\, je présenterai des résultats qui tendent à rendre cette intuition explicite. Je montrerai comment on peut décomposer certains types en une partie stable et un quotient ayant des propriétés typiques des ordres linéaires. Le résultat général pour tous les types est encore conjecturel.
URL:https://www.math.ens.psl.eu/evenement/decomposition-de-types-dans-les-theories-nip/
LOCATION:Batiment Sophie Germain salle 2015 (angle avenue de France et rue Alice Domon 75013 Paris)
CATEGORIES:Séminaire Géométrie et théorie des modèles
END:VEVENT
BEGIN:VEVENT
DTSTART;TZID=Europe/Paris:20150522T160000
DTEND;TZID=Europe/Paris:20150522T160000
DTSTAMP:20260425T160814
CREATED:20150522T140000Z
LAST-MODIFIED:20211104T095554Z
UID:8220-1432310400-1432310400@www.math.ens.psl.eu
SUMMARY:Around the Canonical Base Property
DESCRIPTION:The canonical base property (CBP) is a property of finite rank theories\, which was introduced by Pillay and whose formulation was motivated by results of Campana in complex geometry. The main feature of such a property is that it provides a dichotomy for types of rank one\, and in consequence one can reproduce Hrushovski’s proof of Mordell-Lang for function fields in characteristic zero with considerable simplifications.In this talk\, I will motivate (via Mordell-Lang) the statement of the CBP and describe some results around the CBP\, in particular on definable groups.
URL:https://www.math.ens.psl.eu/evenement/around-the-canonical-base-property/
LOCATION:ENS Salle W
CATEGORIES:Séminaire Géométrie et théorie des modèles
END:VEVENT
BEGIN:VEVENT
DTSTART;TZID=Europe/Paris:20150522T141500
DTEND;TZID=Europe/Paris:20150522T141500
DTSTAMP:20260425T160814
CREATED:20150522T121500Z
LAST-MODIFIED:20211104T095554Z
UID:8219-1432304100-1432304100@www.math.ens.psl.eu
SUMMARY:On the existential theory of equicharacteristic henselian valued fields
DESCRIPTION:The first order theory of a henselian valued field of residue characteristic zero is well-understood through the celebrated Ax-Kochen-Ershov principle\, which states that it is completely determined by the theory of the residue field and the theory of the value group. For henselian valued fields of positive residue characteristic\, no such general principle is known. I will report on joint work with Will Anscombe in which we study (parts of) the theory of equicharacteristic henselian valued fields and prove an Ax-Kochen-Ershov principle for existential (and slightly more general) sentences. I will also discuss applications to the definability of henselian valuation rings and to the existential decidability (Hilbert’s tenth problem) of the local field F_q((t))\, which was proven by Denef and Schoutens assuming resolution of singularities.
URL:https://www.math.ens.psl.eu/evenement/on-the-existential-theory-of-equicharacteristic-henselian-valued-fields/
LOCATION:ENS Salle W
CATEGORIES:Séminaire Géométrie et théorie des modèles
END:VEVENT
BEGIN:VEVENT
DTSTART;TZID=Europe/Paris:20150522T110000
DTEND;TZID=Europe/Paris:20150522T110000
DTSTAMP:20260425T160814
CREATED:20150522T090000Z
LAST-MODIFIED:20211104T095553Z
UID:8218-1432292400-1432292400@www.math.ens.psl.eu
SUMMARY:Voisinages formels dans le schéma des arcs
DESCRIPTION:Je décrirai quelques investigations récentes autour du théorème deDrinfeld-Grinberg-Kahzdan sur le voisinage formel d’un arc nonsingulier. C’est un travail en commun avec Julien Sebag.
URL:https://www.math.ens.psl.eu/evenement/voisinages-formels-dans-le-schema-des-arcs/
LOCATION:ENS Salle W
CATEGORIES:Séminaire Géométrie et théorie des modèles
END:VEVENT
BEGIN:VEVENT
DTSTART;TZID=Europe/Paris:20150306T160000
DTEND;TZID=Europe/Paris:20150306T160000
DTSTAMP:20260425T160814
CREATED:20150306T150000Z
LAST-MODIFIED:20211104T095539Z
UID:8216-1425657600-1425657600@www.math.ens.psl.eu
SUMMARY:Lebesgue measure and integration theory on arbitrary real closed fields
DESCRIPTION:We establish for the category of semialgebraic sets and functions on arbitrary real closed fields a full Lebesgue measure and integration theory such that the main results from the classical setting hold. The construction involves methods from model theory\, o-minimal geometry\, valuation theory and the theory of ordered abelian groups. We set up the construction in such a way that it is uniquely determined by data that can be formulated completely in terms of the given real closed field. We apply our integration theory to questions on semialgebraic geometry and analysis in the non-standard setting and also to questions on parameterized integrals on the reals.
URL:https://www.math.ens.psl.eu/evenement/lebesgue-measure-and-integration-theory-on-arbitrary-real-closed-fields/
LOCATION:Salle W ENS
CATEGORIES:Séminaire Géométrie et théorie des modèles
END:VEVENT
BEGIN:VEVENT
DTSTART;TZID=Europe/Paris:20150306T141500
DTEND;TZID=Europe/Paris:20150306T141500
DTSTAMP:20260425T160814
CREATED:20150306T131500Z
LAST-MODIFIED:20211104T095539Z
UID:8215-1425651300-1425651300@www.math.ens.psl.eu
SUMMARY:Definable types in ACVF.
DESCRIPTION:Given a pair of models Kprec L of a first-order theory T\, the pair is said to be stable if the following property holds: all types over K which are realized in L are definable. Marker and Steinhorn characterized stable pairs of models of o-minimal theories as pairs K prec L where K is Dedekind complete in L. In this talk we provide a characterization of stable pairs of algebraically closed valued fields K prec L. To get a flavor of the topic\, different examples will be discussed and a brief introduction to some model-theoretic aspects of stable pairs will be given. This is a joint work with Françoise Delon.
URL:https://www.math.ens.psl.eu/evenement/definable-types-in-acvf/
LOCATION:ENS Salle W
CATEGORIES:Séminaire Géométrie et théorie des modèles
END:VEVENT
BEGIN:VEVENT
DTSTART;TZID=Europe/Paris:20150306T110000
DTEND;TZID=Europe/Paris:20150306T110000
DTSTAMP:20260425T160814
CREATED:20150306T100000Z
LAST-MODIFIED:20211104T095553Z
UID:8217-1425639600-1425639600@www.math.ens.psl.eu
SUMMARY:Complex continuations of functions definable in R_{an\,exp} with a diophantine application.
DESCRIPTION:
URL:https://www.math.ens.psl.eu/evenement/complex-continuations-of-functions-definable-in-r_anexp-with-a-diophantine-application/
LOCATION:Salle W ENS
CATEGORIES:Séminaire Géométrie et théorie des modèles
END:VEVENT
BEGIN:VEVENT
DTSTART;TZID=Europe/Paris:20150123T160000
DTEND;TZID=Europe/Paris:20150123T160000
DTSTAMP:20260425T160814
CREATED:20150123T150000Z
LAST-MODIFIED:20211104T095524Z
UID:8211-1422028800-1422028800@www.math.ens.psl.eu
SUMMARY:Geometric dualities and model theory
DESCRIPTION:Geometries can be given in a direct semantic way\, say as a complex or real manifold\, or more abstractly\, by their co-ordinate algebras and schemes. A duality of this kind becomes highly non-trivial in cases of schemes of arithmetic type and for non-commutative co-ordinate algebras. I will discuss these issues from model-theoretic perspective. A detailed analysis will be given to the canonical commutation relation(s) underlying quantum mechanics. Some applications will be presented.
URL:https://www.math.ens.psl.eu/evenement/geometric-dualities-and-model-theory/
LOCATION:ENS Salle W
CATEGORIES:Séminaire Géométrie et théorie des modèles
END:VEVENT
BEGIN:VEVENT
DTSTART;TZID=Europe/Paris:20150123T141500
DTEND;TZID=Europe/Paris:20150123T141500
DTSTAMP:20260425T160814
CREATED:20150123T131500Z
LAST-MODIFIED:20211104T095524Z
UID:8210-1422022500-1422022500@www.math.ens.psl.eu
SUMMARY:Anneaux noethériens valués et corps valués.
DESCRIPTION:J’illustrerai\, dans le cas des valuations d’Abhyankar\, des méthodes d’étude des valuations utilisant la noetherianité des anneaux et conduisant à une preuve de l’uniformisation locale des valuations d’Abhyankar.
URL:https://www.math.ens.psl.eu/evenement/anneaux-noetheriens-values-et-corps-values/
LOCATION:Salle W ENS
CATEGORIES:Séminaire Géométrie et théorie des modèles
END:VEVENT
BEGIN:VEVENT
DTSTART;TZID=Europe/Paris:20150123T110000
DTEND;TZID=Europe/Paris:20150123T110000
DTSTAMP:20260425T160814
CREATED:20150123T100000Z
LAST-MODIFIED:20211104T095523Z
UID:8209-1422010800-1422010800@www.math.ens.psl.eu
SUMMARY:Manin-Mumford dynamique pour les automorphismes du plan complexe.
DESCRIPTION:Soit f: A^2 –> A^2 un automorphisme polynomial du plan complexe. Le problème de Manin-Mumford dynamique consiste à décrire les courbes algébriques C contenant une infinité de points périodiques de f.Dans un travail en commun avec R. Dujardin nous avons montré que lorsque f était dissipative\, une telle courbe C n’existait jamais.
URL:https://www.math.ens.psl.eu/evenement/manin-mumford-dynamique-pour-les-automorphismes-du-plan-complexe/
LOCATION:Salle W ENS
CATEGORIES:Séminaire Géométrie et théorie des modèles
END:VEVENT
BEGIN:VEVENT
DTSTART;TZID=Europe/Paris:20141225T000000
DTEND;TZID=Europe/Paris:20141225T000000
DTSTAMP:20260425T160814
CREATED:20141224T230000Z
LAST-MODIFIED:20211104T095454Z
UID:8200-1419465600-1419465600@www.math.ens.psl.eu
SUMMARY:Relâche
DESCRIPTION:
URL:https://www.math.ens.psl.eu/evenement/relache-4/
CATEGORIES:Séminaire de géométrie algébrique
END:VEVENT
BEGIN:VEVENT
DTSTART;TZID=Europe/Paris:20141218T140000
DTEND;TZID=Europe/Paris:20141218T140000
DTSTAMP:20260425T160814
CREATED:20141218T130000Z
LAST-MODIFIED:20211104T095454Z
UID:8199-1418911200-1418911200@www.math.ens.psl.eu
SUMMARY:TBA
DESCRIPTION:
URL:https://www.math.ens.psl.eu/evenement/tba-5/
LOCATION:ENS Salle W
CATEGORIES:Séminaire de géométrie algébrique
END:VEVENT
BEGIN:VEVENT
DTSTART;TZID=Europe/Paris:20141212T140000
DTEND;TZID=Europe/Paris:20141212T140000
DTSTAMP:20260425T160814
CREATED:20141212T130000Z
LAST-MODIFIED:20211104T095523Z
UID:8208-1418392800-1418392800@www.math.ens.psl.eu
SUMMARY:Obtaining bi-Lipschitz stratifications using valued fields
DESCRIPTION:(Work in progress\, together with Yimu Yin)One tool to describe singularities of (e.g. algebraic or analytic) subsets X of R^n or C^n are stratifications: a partition of X into finitely many ?Roestrata?R such that any two points x\, y in X within the same stratum have the ?Roesame type of neighbourhood?R. The most classical stratifications are Whitney stratifications\, which classify neighbourhoods up to homeomorphism. The strongest known stratifications are Mostowski’s bi-Lipschitz stratifications\, which classify neighbourhoods up to a bi-Lipschitz map. I will present a new way of obtaining such bi-Lipschitz stratifications\, by working in a suitable valued field (a non-standard model of R or C). Up to recently\, the existence of bi-Lipschitz stratifications was only known for sub-analytic sets. Our method works for definable sets in arbitrary polyinomially bounded o-minimal expansions of R\, i.e. in particular for quasi-analytic sets. (A similar result has also been announced by Valette.)
URL:https://www.math.ens.psl.eu/evenement/obtaining-bi-lipschitz-stratifications-using-valued-fields/
LOCATION:Salle W ENS
CATEGORIES:Séminaire Géométrie et théorie des modèles
END:VEVENT
BEGIN:VEVENT
DTSTART;TZID=Europe/Paris:20141212T110000
DTEND;TZID=Europe/Paris:20141212T110000
DTSTAMP:20260425T160814
CREATED:20141212T100000Z
LAST-MODIFIED:20211104T095523Z
UID:8207-1418382000-1418382000@www.math.ens.psl.eu
SUMMARY:Intersections singulières de sous-groupes et de sous-variétés.
DESCRIPTION:Motivés par des questions topologiques\, nous présentons plusieurs problèmes sur les intersections singulières de sous-groupes algébriques et de sous-variétés dans les tores multiplicatifs. Ces questions sont étroitement liées aux conjectures de Zilber-Pink. L’heuristique sous-jacente est que\, dans ces conjectures\, la singularité des intersections peut compenser une décrémentation de la codimension des sous-groupes considérés.Il s’agit d’un travail en commun avec J. Marché.
URL:https://www.math.ens.psl.eu/evenement/intersections-singulieres-de-sous-groupes-et-de-sous-varietes/
LOCATION:Salle W ENS
CATEGORIES:Séminaire Géométrie et théorie des modèles
END:VEVENT
BEGIN:VEVENT
DTSTART;TZID=Europe/Paris:20141212T091500
DTEND;TZID=Europe/Paris:20141212T091500
DTSTAMP:20260425T160814
CREATED:20141212T081500Z
LAST-MODIFIED:20211104T095509Z
UID:8206-1418375700-1418375700@www.math.ens.psl.eu
SUMMARY:Une caractérisation topologique de la propriété d'indépendance.
DESCRIPTION:Une théorie est NIP si et seulement si certains espaces de types sont des `compacts de Rosenthal’ : des objets étudiés en topologie et théorie descriptive des ensembles. Grâce à cette observation\, on peut appliquer des résultats de topologie générale pour obtenir de nouveaux (et d’anciens) théorèmes sur les théories NIP. Je parlerai en particulier de conséquences concernant les types invariants.
URL:https://www.math.ens.psl.eu/evenement/une-caracterisation-topologique-de-la-propriete-dindependance/
LOCATION:ENS Salle W
CATEGORIES:Séminaire Géométrie et théorie des modèles
END:VEVENT
BEGIN:VEVENT
DTSTART;TZID=Europe/Paris:20141211T140000
DTEND;TZID=Europe/Paris:20141211T140000
DTSTAMP:20260425T160814
CREATED:20141211T130000Z
LAST-MODIFIED:20211104T095453Z
UID:8198-1418306400-1418306400@www.math.ens.psl.eu
SUMMARY:TBA
DESCRIPTION:
URL:https://www.math.ens.psl.eu/evenement/tba-4/
LOCATION:ENS Salle W
CATEGORIES:Séminaire de géométrie algébrique
END:VEVENT
BEGIN:VEVENT
DTSTART;TZID=Europe/Paris:20141204T140000
DTEND;TZID=Europe/Paris:20141204T140000
DTSTAMP:20260425T160814
CREATED:20141204T130000Z
LAST-MODIFIED:20211104T095453Z
UID:8197-1417701600-1417701600@www.math.ens.psl.eu
SUMMARY:TBA
DESCRIPTION:
URL:https://www.math.ens.psl.eu/evenement/tba-3/
LOCATION:ENS Salle W
CATEGORIES:Séminaire de géométrie algébrique
END:VEVENT
BEGIN:VEVENT
DTSTART;TZID=Europe/Paris:20141127T000000
DTEND;TZID=Europe/Paris:20141127T000000
DTSTAMP:20260425T160814
CREATED:20141126T230000Z
LAST-MODIFIED:20211104T095439Z
UID:8196-1417046400-1417046400@www.math.ens.psl.eu
SUMMARY:Relâche
DESCRIPTION:
URL:https://www.math.ens.psl.eu/evenement/relache-3/
CATEGORIES:Séminaire de géométrie algébrique
END:VEVENT
BEGIN:VEVENT
DTSTART;TZID=Europe/Paris:20141120T000000
DTEND;TZID=Europe/Paris:20141120T000000
DTSTAMP:20260425T160814
CREATED:20141119T230000Z
LAST-MODIFIED:20211104T095439Z
UID:8195-1416441600-1416441600@www.math.ens.psl.eu
SUMMARY:TBA
DESCRIPTION:
URL:https://www.math.ens.psl.eu/evenement/tba-2/
LOCATION:ENS Salle W
CATEGORIES:Séminaire de géométrie algébrique
END:VEVENT
BEGIN:VEVENT
DTSTART;TZID=Europe/Paris:20141114T160000
DTEND;TZID=Europe/Paris:20141114T160000
DTSTAMP:20260425T160814
CREATED:20141114T150000Z
LAST-MODIFIED:20211104T095508Z
UID:8203-1415980800-1415980800@www.math.ens.psl.eu
SUMMARY:Some applications of model theory to geometric Ramsey theory.
DESCRIPTION:In a series of papers by Alon\, Conlon\, Fox\, Gromov\, Naor\, Pach\, Pinchasi\, Radoi\, Sharir\, Sudakov\, Lafforgue\, Suk and others it is demonstrated that families of graphs with the edge relation given by a semialgebraic relation of bounded complexity satisfy much stronger regularity properties than arbitrary graphs\, and can be decomposed into very homogeneous semialgebraic pieces modulo a small mistake (for example the incidence relation between points and lines on the real plane\, or higher dimensional analogues). We show that in fact the whole theory can be developed for families of graphs whose edge relation is uniformly definable in a structure satisfying a certain model theoretic property called distality\, with respect to arbitrary generically stable measures rather than just the counting ones. Moreover\, distality characterizes these strong regularity properties. This applies in particular to definable graphs in all o-minimal and weakly o-minimal theories\, and in p-adics.Joint work with Sergei Starchenko.
URL:https://www.math.ens.psl.eu/evenement/some-applications-of-model-theory-to-geometric-ramsey-theory/
LOCATION:ENS Salle W
CATEGORIES:Séminaire Géométrie et théorie des modèles
END:VEVENT
BEGIN:VEVENT
DTSTART;TZID=Europe/Paris:20141114T141500
DTEND;TZID=Europe/Paris:20141114T141500
DTSTAMP:20260425T160814
CREATED:20141114T131500Z
LAST-MODIFIED:20211104T095454Z
UID:8201-1415974500-1415974500@www.math.ens.psl.eu
SUMMARY:Degrees of strongly special subvarieties and the André-Oort conjecture.
DESCRIPTION:We give a new proof of the André-Oort conjecture under the generalised Riemann hypothesis. In fact\, we generalise the strategy pioneered by Edixhoven\, and implemented by Klingler and Yafaev\, to all special subvarieties. Thus\, we remove ergodic theory from the proof of Klingler\, Ullmo and Yafaev and replace it with tools from algebraic geometry. Our key ingredient is a lower bound for the degrees of strongly special subvarieties coming from Prasad’s volume formula for S-arithmetic quotients of semisimple groups.
URL:https://www.math.ens.psl.eu/evenement/degrees-of-strongly-special-subvarieties-and-the-andre-oort-conjecture/
LOCATION:ENS Salle W
CATEGORIES:Séminaire Géométrie et théorie des modèles
END:VEVENT
BEGIN:VEVENT
DTSTART;TZID=Europe/Paris:20141114T110000
DTEND;TZID=Europe/Paris:20141114T110000
DTSTAMP:20260425T160814
CREATED:20141114T100000Z
LAST-MODIFIED:20211104T095508Z
UID:8202-1415962800-1415962800@www.math.ens.psl.eu
SUMMARY:Model theory of right-angled buildings.
DESCRIPTION:To every right-angled Coxeter G group belongs a unique countable Tits building B(G) with infinite residues. Using a suitable language\, we study the first order theory of B(G). It has a nice axiomatization\, is omega-stable\, equational and has trivial forking. It is not n-ample\, when n is the number of generators of G. (Joint work with A. Baudisch and A. Martín Pizarro)
URL:https://www.math.ens.psl.eu/evenement/model-theory-of-right-angled-buildings/
LOCATION:ENS – salle W\, 45 rue d'Ulm\, Paris\, 75005\, France
CATEGORIES:Séminaire Géométrie et théorie des modèles
END:VEVENT
BEGIN:VEVENT
DTSTART;TZID=Europe/Paris:20141113T000000
DTEND;TZID=Europe/Paris:20141113T000000
DTSTAMP:20260425T160814
CREATED:20141112T230000Z
LAST-MODIFIED:20211104T095438Z
UID:8194-1415836800-1415836800@www.math.ens.psl.eu
SUMMARY:TBA
DESCRIPTION:
URL:https://www.math.ens.psl.eu/evenement/tba/
CATEGORIES:Séminaire de géométrie algébrique
END:VEVENT
BEGIN:VEVENT
DTSTART;TZID=Europe/Paris:20141106T000000
DTEND;TZID=Europe/Paris:20141106T000000
DTSTAMP:20260425T160814
CREATED:20141105T230000Z
LAST-MODIFIED:20211104T095438Z
UID:8193-1415232000-1415232000@www.math.ens.psl.eu
SUMMARY:Courbes rationnelles et groupes de Chow des variétés hyperkählériennes
DESCRIPTION:
URL:https://www.math.ens.psl.eu/evenement/courbes-rationnelles-et-groupes-de-chow-des-varietes-hyperkahleriennes/
CATEGORIES:Séminaire de géométrie algébrique
END:VEVENT
BEGIN:VEVENT
DTSTART;TZID=Europe/Paris:20141030T000000
DTEND;TZID=Europe/Paris:20141030T000000
DTSTAMP:20260425T160814
CREATED:20141029T230000Z
LAST-MODIFIED:20211104T095438Z
UID:8192-1414627200-1414627200@www.math.ens.psl.eu
SUMMARY:Relâche
DESCRIPTION:
URL:https://www.math.ens.psl.eu/evenement/relache-2/
CATEGORIES:Séminaire de géométrie algébrique
END:VEVENT
BEGIN:VEVENT
DTSTART;TZID=Europe/Paris:20141023T000000
DTEND;TZID=Europe/Paris:20141023T000000
DTSTAMP:20260425T160814
CREATED:20141022T220000Z
LAST-MODIFIED:20211104T095412Z
UID:8190-1414022400-1414022400@www.math.ens.psl.eu
SUMMARY:Relâche
DESCRIPTION:
URL:https://www.math.ens.psl.eu/evenement/relache/
CATEGORIES:Séminaire de géométrie algébrique
END:VEVENT
BEGIN:VEVENT
DTSTART;TZID=Europe/Paris:20141016T140000
DTEND;TZID=Europe/Paris:20141016T140000
DTSTAMP:20260425T160814
CREATED:20141016T120000Z
LAST-MODIFIED:20211104T095412Z
UID:8189-1413468000-1413468000@www.math.ens.psl.eu
SUMMARY:Déformations des courbes multiples
DESCRIPTION:
URL:https://www.math.ens.psl.eu/evenement/deformations-des-courbes-multiples/
LOCATION:ENS Salle W
CATEGORIES:Séminaire de géométrie algébrique
END:VEVENT
BEGIN:VEVENT
DTSTART;TZID=Europe/Paris:20141009T140000
DTEND;TZID=Europe/Paris:20141009T140000
DTSTAMP:20260425T160814
CREATED:20141009T120000Z
LAST-MODIFIED:20211104T095411Z
UID:8188-1412863200-1412863200@www.math.ens.psl.eu
SUMMARY:Introduction to quantum K-theory
DESCRIPTION:
URL:https://www.math.ens.psl.eu/evenement/introduction-to-quantum-k-theory/
LOCATION:ENS Salle W
CATEGORIES:Séminaire de géométrie algébrique
END:VEVENT
END:VCALENDAR