BEGIN:VCALENDAR
VERSION:2.0
PRODID:-//Département de mathématiques et applications - ECPv6.2.2//NONSGML v1.0//EN
CALSCALE:GREGORIAN
METHOD:PUBLISH
X-WR-CALNAME:Département de mathématiques et applications
X-ORIGINAL-URL:https://www.math.ens.psl.eu
X-WR-CALDESC:évènements pour Département de mathématiques et applications
REFRESH-INTERVAL;VALUE=DURATION:PT1H
X-Robots-Tag:noindex
X-PUBLISHED-TTL:PT1H
BEGIN:VTIMEZONE
TZID:Europe/Paris
BEGIN:DAYLIGHT
TZOFFSETFROM:+0100
TZOFFSETTO:+0200
TZNAME:CEST
DTSTART:20220327T010000
END:DAYLIGHT
BEGIN:STANDARD
TZOFFSETFROM:+0200
TZOFFSETTO:+0100
TZNAME:CET
DTSTART:20221030T010000
END:STANDARD
END:VTIMEZONE
BEGIN:VEVENT
DTSTART;TZID=Europe/Paris:20221019T140000
DTEND;TZID=Europe/Paris:20221019T170000
DTSTAMP:20260425T162359
CREATED:20221019T085810Z
LAST-MODIFIED:20221019T085810Z
UID:16061-1666188000-1666198800@www.math.ens.psl.eu
SUMMARY:Un après-midi de théorie des groupes
DESCRIPTION:Le séminaire sera dans salle W et retransmis sur Zoom : \nhttps://us02web.zoom.us/j/83927866358\nMeeting ID: 839 2786 6358 \nMot de passe:\nG est un Graphe de Cayley du groupe libre à 107 générateurs. Quel est\nle degré de ce graphe? Tapez le numéro à trois chiffres comme un mot\nde passe.\n14.00 – 14.45 Yury Neretin (University of Vienna)\, « Infinite symmetric\ngroups and cobordisms of triangulated surfaces » \n15.00 – 15.45 Matteo Tarocchi (University of Milano-Biocca)\,\n« Thompson-like groups acting on fractals » \n16.00 – 16.45 Rachel Skipper (ENS)\, « Maximal Subgroups of Thompson’s group V » \n 
URL:https://www.math.ens.psl.eu/evenement/un-apres-midi-de-theorie-des-groupes-2/
LOCATION:14:00-17:00 Salle W
CATEGORIES:Séminaire de théorie des groupes à l’ENS
END:VEVENT
END:VCALENDAR