BEGIN:VCALENDAR
VERSION:2.0
PRODID:-//Département de mathématiques et applications - ECPv6.2.2//NONSGML v1.0//EN
CALSCALE:GREGORIAN
METHOD:PUBLISH
X-WR-CALNAME:Département de mathématiques et applications
X-ORIGINAL-URL:https://www.math.ens.psl.eu
X-WR-CALDESC:évènements pour Département de mathématiques et applications
REFRESH-INTERVAL;VALUE=DURATION:PT1H
X-Robots-Tag:noindex
X-PUBLISHED-TTL:PT1H
BEGIN:VTIMEZONE
TZID:Europe/Paris
BEGIN:DAYLIGHT
TZOFFSETFROM:+0100
TZOFFSETTO:+0200
TZNAME:CEST
DTSTART:20220327T010000
END:DAYLIGHT
BEGIN:STANDARD
TZOFFSETFROM:+0200
TZOFFSETTO:+0100
TZNAME:CET
DTSTART:20221030T010000
END:STANDARD
END:VTIMEZONE
BEGIN:VEVENT
DTSTART;TZID=Europe/Paris:20221220T140000
DTEND;TZID=Europe/Paris:20221220T170000
DTSTAMP:20260425T131419
CREATED:20221216T214153Z
LAST-MODIFIED:20221216T214153Z
UID:16209-1671544800-1671555600@www.math.ens.psl.eu
SUMMARY:Un après-midi de théorie des groupes
DESCRIPTION:Le séminaire sera dans salle W et retransmis sur Zoom : \nhttps://us02web.zoom.us/j/89219979639\nMeeting ID: 892 1997 9639\nMot de passe:\nG est un Graphe de Cayley du groupe libre à 107 générateurs. Quel est\nle degré de ce graphe? Tapez le numéro à trois chiffres comme un mot\nde passe. \n14.00 -- 14.45 Jim Belk (University of Glasgow)\,\n"Embeddings into Finitely Presented Simple Groups" (in presence\, room W)\n\n15.00 -- 15.45 Mark Pengitore (University of Virginia)\, "Characteristic\nquotients of surface groups and residual finiteness of mapping class\ngroups" (online\, shown on the screen)\n\n16.00 -- 16.45 Nikolay Bogachev (Weizmann Institute\, IITP RAS)\, "On geometry\nand arithmetic of hyperbolic orbifolds" (TBC\, online\, shown on the screen)
URL:https://www.math.ens.psl.eu/evenement/un-apres-midi-de-theorie-des-groupes-3/
LOCATION:14:00-17:00 Salle W
CATEGORIES:Séminaire de théorie des groupes à l’ENS
END:VEVENT
END:VCALENDAR