BEGIN:VCALENDAR
VERSION:2.0
PRODID:-//Département de mathématiques et applications - ECPv6.2.2//NONSGML v1.0//EN
CALSCALE:GREGORIAN
METHOD:PUBLISH
X-ORIGINAL-URL:https://www.math.ens.psl.eu
X-WR-CALDESC:évènements pour Département de mathématiques et applications
REFRESH-INTERVAL;VALUE=DURATION:PT1H
X-Robots-Tag:noindex
X-PUBLISHED-TTL:PT1H
BEGIN:VTIMEZONE
TZID:Europe/Paris
BEGIN:DAYLIGHT
TZOFFSETFROM:+0100
TZOFFSETTO:+0200
TZNAME:CEST
DTSTART:20220327T010000
END:DAYLIGHT
BEGIN:STANDARD
TZOFFSETFROM:+0200
TZOFFSETTO:+0100
TZNAME:CET
DTSTART:20221030T010000
END:STANDARD
END:VTIMEZONE
BEGIN:VEVENT
DTSTART;TZID=Europe/Paris:20221122T140000
DTEND;TZID=Europe/Paris:20221122T170000
DTSTAMP:20260425T145511
CREATED:20221118T212841Z
LAST-MODIFIED:20221118T213000Z
UID:16113-1669125600-1669136400@www.math.ens.psl.eu
SUMMARY:Un après-midi de théorie des groupes
DESCRIPTION:Le séminaire sera dans salle W et retransmis sur Zoom : \nhttps://us02web.zoom.us/j/86001581637\nMeeting ID: 860 0158 1637\nMot de passe:\nG est un Graphe de Cayley du groupe libre à 107 générateurs. Quel est\nle degré de ce graphe? Tapez le numéro à trois chiffres comme un mot\nde passe. \n14.00 -- 14.45 Anne Lonjou  (UPV/EHU\, University of the Basque Country)\,\n"Cremona goup over finite fields and Neretin groups"\n\n15.00 -- 15.45 Eduardo Silva (ENS\, Paris)\, "Dead ends on wreath products\nand lamplighter groups"\n\n16.00 -- 16.45 Alina Vdovina (CUNY\, New York)\, "Higher structures in\nmathematics: buildings\, k-graphs and C*-algebras"
URL:https://www.math.ens.psl.eu/evenement/16113/
LOCATION:14:00-17:00 Salle W
CATEGORIES:Séminaire de théorie des groupes à l’ENS
END:VEVENT
END:VCALENDAR