BEGIN:VCALENDAR
VERSION:2.0
PRODID:-//Département de mathématiques et applications - ECPv6.2.2//NONSGML v1.0//EN
CALSCALE:GREGORIAN
METHOD:PUBLISH
X-ORIGINAL-URL:https://www.math.ens.psl.eu
X-WR-CALDESC:évènements pour Département de mathématiques et applications
REFRESH-INTERVAL;VALUE=DURATION:PT1H
X-Robots-Tag:noindex
X-PUBLISHED-TTL:PT1H
BEGIN:VTIMEZONE
TZID:Europe/Paris
BEGIN:DAYLIGHT
TZOFFSETFROM:+0100
TZOFFSETTO:+0200
TZNAME:CEST
DTSTART:20230326T010000
END:DAYLIGHT
BEGIN:STANDARD
TZOFFSETFROM:+0200
TZOFFSETTO:+0100
TZNAME:CET
DTSTART:20231029T010000
END:STANDARD
END:VTIMEZONE
BEGIN:VEVENT
DTSTART;TZID=Europe/Paris:20230314T140000
DTEND;TZID=Europe/Paris:20230314T170000
DTSTAMP:20260424T185851
CREATED:20230228T210247Z
LAST-MODIFIED:20230228T210247Z
UID:16316-1678802400-1678813200@www.math.ens.psl.eu
SUMMARY:Un après-midi de théorie des groupes
DESCRIPTION:Le séminaire sera dans salle W et retransmis sur Zoom : \nhttps://us02web.zoom.us/j/83940344109\nMeeting ID: 839 4034 4109\nMot de passe:\nG est un Graphe de Cayley du groupe libre à 107 générateurs. Quel est le degré de ce graphe? Tapez le numéro à trois chiffres comme un mot de passe. \n14.00-14.45 Emmanuel Breuillard (Oxford)\, Random character varieties.\n\n15.00-15.45 Pierre Py (Strasbourg)\, Subgroups of hyperbolic groups\,\nfiniteness properties and complex hyperbolic lattices.\n\n16.00-16.45 Olga Kharlampovich (Graduate Center and Hunter College\nCUNY)\,  Equations and first-order sentences in random groups.
URL:https://www.math.ens.psl.eu/evenement/un-apres-midi-de-theorie-des-groupes-6/
LOCATION:DMA Salle W
CATEGORIES:Séminaire de théorie des groupes à l’ENS
END:VEVENT
END:VCALENDAR