BEGIN:VCALENDAR
VERSION:2.0
PRODID:-//Département de mathématiques et applications - ECPv6.2.2//NONSGML v1.0//EN
CALSCALE:GREGORIAN
METHOD:PUBLISH
X-WR-CALNAME:Département de mathématiques et applications
X-ORIGINAL-URL:https://www.math.ens.psl.eu
X-WR-CALDESC:évènements pour Département de mathématiques et applications
REFRESH-INTERVAL;VALUE=DURATION:PT1H
X-Robots-Tag:noindex
X-PUBLISHED-TTL:PT1H
BEGIN:VTIMEZONE
TZID:Europe/Paris
BEGIN:DAYLIGHT
TZOFFSETFROM:+0100
TZOFFSETTO:+0200
TZNAME:CEST
DTSTART:20230326T010000
END:DAYLIGHT
BEGIN:STANDARD
TZOFFSETFROM:+0200
TZOFFSETTO:+0100
TZNAME:CET
DTSTART:20231029T010000
END:STANDARD
END:VTIMEZONE
BEGIN:VEVENT
DTSTART;TZID=Europe/Paris:20230516T140000
DTEND;TZID=Europe/Paris:20230516T170000
DTSTAMP:20260424T173327
CREATED:20230503T161405Z
LAST-MODIFIED:20230503T161405Z
UID:16435-1684245600-1684256400@www.math.ens.psl.eu
SUMMARY:Un après-midi de théorie des groupes
DESCRIPTION:Le séminaire sera dans salle W et retransmis sur Zoom : \nhttps://us02web.zoom.us/j/82734674940\nMeeting ID: 827 3467 4940\nMot de passe:\nG est un Graphe de Cayley du groupe libre à 107 générateurs. Quel est le degré de ce graphe? Tapez le numéro à trois chiffres comme un mot de passe. \n  \n14.00 -- 14.45 Jingyin Huang (Ohio State University)\, Labeled four wheels\nand the K(pi\,1) problem for reflection arrangement complements\n\n15.00 -- 15.45 Corentin Bodard (University of Geneva)\, Intermediate\ngeodesic growth in virtually nilpotent groups\n\n16.00 -- 16.45 Lopez Neumann Antonio (École polytechnique)\, Vanishing of\nthe second L^p-cohomology group for most semisimple groups of rank at\nleast 3
URL:https://www.math.ens.psl.eu/evenement/un-apres-midi-de-theorie-des-groupes-8/
LOCATION:DMA Salle W
CATEGORIES:Séminaire de théorie des groupes à l’ENS
END:VEVENT
END:VCALENDAR