BEGIN:VCALENDAR
VERSION:2.0
PRODID:-//Département de mathématiques et applications - ECPv6.2.2//NONSGML v1.0//EN
CALSCALE:GREGORIAN
METHOD:PUBLISH
X-ORIGINAL-URL:https://www.math.ens.psl.eu
X-WR-CALDESC:évènements pour Département de mathématiques et applications
REFRESH-INTERVAL;VALUE=DURATION:PT1H
X-Robots-Tag:noindex
X-PUBLISHED-TTL:PT1H
BEGIN:VTIMEZONE
TZID:Europe/Paris
BEGIN:DAYLIGHT
TZOFFSETFROM:+0100
TZOFFSETTO:+0200
TZNAME:CEST
DTSTART:20190331T010000
END:DAYLIGHT
BEGIN:STANDARD
TZOFFSETFROM:+0200
TZOFFSETTO:+0100
TZNAME:CET
DTSTART:20191027T010000
END:STANDARD
END:VTIMEZONE
BEGIN:VEVENT
DTSTART;TZID=Europe/Paris:20191029T160000
DTEND;TZID=Europe/Paris:20191029T173000
DTSTAMP:20260425T045719
CREATED:20191029T150000Z
LAST-MODIFIED:20211104T140810Z
UID:8529-1572364800-1572370200@www.math.ens.psl.eu
SUMMARY:Model theory of proalgebraic groups
DESCRIPTION:Inspired by the model theoretic study of profinite groups\, we discuss the foundations of a model theoretic approach to proalgebraic groups. Our axiomatization is based on the tannakian philosophy. Through a tensor analog of skeletal categories we are able to consider neutral tannakian categories with a fibre functor as many-sorted first order structures. The theory of a diagonalizable proalgebraic group is well understood. It is determined by the theory of the base field and the theory of its character group. This is joint work with Anand Pillay.
URL:https://www.math.ens.psl.eu/evenement/model-theory-of-proalgebraic-groups/
LOCATION:Sophie Germain salle 2015
CATEGORIES:Théorie des Modèles et Groupes
END:VEVENT
END:VCALENDAR