BEGIN:VCALENDAR
VERSION:2.0
PRODID:-//Département de mathématiques et applications - ECPv6.2.2//NONSGML v1.0//EN
CALSCALE:GREGORIAN
METHOD:PUBLISH
X-ORIGINAL-URL:https://www.math.ens.psl.eu
X-WR-CALDESC:évènements pour Département de mathématiques et applications
REFRESH-INTERVAL;VALUE=DURATION:PT1H
X-Robots-Tag:noindex
X-PUBLISHED-TTL:PT1H
BEGIN:VTIMEZONE
TZID:Europe/Paris
BEGIN:DAYLIGHT
TZOFFSETFROM:+0100
TZOFFSETTO:+0200
TZNAME:CEST
DTSTART:20240331T010000
END:DAYLIGHT
BEGIN:STANDARD
TZOFFSETFROM:+0200
TZOFFSETTO:+0100
TZNAME:CET
DTSTART:20241027T010000
END:STANDARD
END:VTIMEZONE
BEGIN:VEVENT
DTSTART;TZID=Europe/Paris:20241210T093000
DTEND;TZID=Europe/Paris:20241210T123000
DTSTAMP:20260426T034513
CREATED:20240905T180828Z
LAST-MODIFIED:20241129T102636Z
UID:17681-1733823000-1733833800@www.math.ens.psl.eu
SUMMARY:Existence globale pour l'équation de Schrödinger non linéaire avec dérivée
DESCRIPTION:Cet exposé sera consacré au problème d’existence globale pour l’équation de Schrödinger non linéaire avec dérivée (DNLS). Tandis qu’une théorie satisfaisante d’existence locale pour cette équation est connue depuis un certain temps\, l’existence globale pour des données grandes a résisté jusqu’à très récemment\, et cela malgré le fait que l’équation soit complètement intégrable et par conséquent\, admette une infinité de lois de conservation. Dans la première partie de l’exposé je présenterai le modèle\, la problématique et j’introduirai des outils spectraux liés à la structure intégrable de l’équation. Dans la deuxième partie\, en me basant sur des travaux récents en collaboration avec Hajer Bahouri\, j’expliquerai comment ces outils spectraux étant combinés avec la technique de décomposition en profils permettent de montrer que DNLS est globalement bien posée dans les espaces de Sobolev Hs(R) avec s ≥ 1/2. Je parlerai également du cas périodique où les résultats sont moins complets.
URL:https://www.math.ens.psl.eu/evenement/galina-perelman/
LOCATION:Jussieu —  salle 15-16-309\, 4 Place Jussieu\, Paris\, 75005\, France
CATEGORIES:Séminaire Analyse non linéaire et EDP
END:VEVENT
END:VCALENDAR