BEGIN:VCALENDAR
VERSION:2.0
PRODID:-//Département de mathématiques et applications - ECPv6.2.2//NONSGML v1.0//EN
CALSCALE:GREGORIAN
METHOD:PUBLISH
X-WR-CALNAME:Département de mathématiques et applications
X-ORIGINAL-URL:https://www.math.ens.psl.eu
X-WR-CALDESC:évènements pour Département de mathématiques et applications
REFRESH-INTERVAL;VALUE=DURATION:PT1H
X-Robots-Tag:noindex
X-PUBLISHED-TTL:PT1H
BEGIN:VTIMEZONE
TZID:Europe/Paris
BEGIN:DAYLIGHT
TZOFFSETFROM:+0100
TZOFFSETTO:+0200
TZNAME:CEST
DTSTART:20260329T010000
END:DAYLIGHT
BEGIN:STANDARD
TZOFFSETFROM:+0200
TZOFFSETTO:+0100
TZNAME:CET
DTSTART:20261025T010000
END:STANDARD
END:VTIMEZONE
BEGIN:VEVENT
DTSTART;TZID=Europe/Paris:20260210T093000
DTEND;TZID=Europe/Paris:20260210T123000
DTSTAMP:20260424T124227
CREATED:20251018T115657Z
LAST-MODIFIED:20260205T165804Z
UID:20148-1770715800-1770726600@www.math.ens.psl.eu
SUMMARY:Sur l’espace atteignable pour l’équation de la chaleur
DESCRIPTION:Titre: Sur l’espace atteignable pour l’équation de la chaleur. \n\n\n\nOrateur: Sylvain Ervedoza (Université de Bordeaux) \n\n\n\nPremière partie introductive. L’objectif de la première partie de l’exposé est de présenter quelques résultats basiques sur le contrôle de l’équation de la chaleur. En particulier\,  nous rappellerons que la contrôlabilité exacte ne peut pas être satisfaite pour l’équation de la chaleur\, mais que la contrôlabilité aux trajectoires (ou à zéro) peut être satisfaite. On donnera plusieurs preuves de ce résultat en dimension un d’espace\, via la méthode des moments\, via une méthode de platitude\, et via une approche de type Carleman. Enfin\, nous décrirons les résultats que chaque approche donne sur l’espace atteignable\, puis nous donnerons la caractérisation en termes d’espace de fonctions holomorphes. \n\n\n\nDeuxième partie. Dans cet exposé\, je présenterai les récents travaux obtenus avec Kevin LeBalc’h et Marius Tucsnak d’une part\, et avec Adrien Tendani-Soler d’autre part\, sur l’espace atteignable pour la chaleur. Notamment\, j’expliquerai à l’aide d’arguments d’analyse fonctionnelle que le semi-groupe de la chaleur reste un C_0 semigroupe lorsqu’il est restreint à l’espace atteignable. Je décrirai ensuite comment cela permet de déduire une approche pour attaquer le problème en démontrant que l’équation de la chaleur génère un semigroupe sur un espace approprié de fonctions holomorphes. En particulier\, cette approche permet de « sandwiches » l’espace atteignable pour la chaleur – y compris semilinéaire – entre deux espaces de fonctions holomorphes.
URL:https://www.math.ens.psl.eu/evenement/sylvain-ervedoza/
LOCATION:Jussieu — salle 15-16-309\, 4 Place Jussieu\, Paris\, 75005
CATEGORIES:Séminaire Analyse non linéaire et EDP
END:VEVENT
END:VCALENDAR