BEGIN:VCALENDAR
VERSION:2.0
PRODID:-//Département de mathématiques et applications - ECPv6.2.2//NONSGML v1.0//EN
CALSCALE:GREGORIAN
METHOD:PUBLISH
X-WR-CALNAME:Département de mathématiques et applications
X-ORIGINAL-URL:https://www.math.ens.psl.eu
X-WR-CALDESC:évènements pour Département de mathématiques et applications
REFRESH-INTERVAL;VALUE=DURATION:PT1H
X-Robots-Tag:noindex
X-PUBLISHED-TTL:PT1H
BEGIN:VTIMEZONE
TZID:Europe/Paris
BEGIN:DAYLIGHT
TZOFFSETFROM:+0100
TZOFFSETTO:+0200
TZNAME:CEST
DTSTART:20260329T010000
END:DAYLIGHT
BEGIN:STANDARD
TZOFFSETFROM:+0200
TZOFFSETTO:+0100
TZNAME:CET
DTSTART:20261025T010000
END:STANDARD
END:VTIMEZONE
BEGIN:VEVENT
DTSTART;TZID=Europe/Paris:20260112T160000
DTEND;TZID=Europe/Paris:20260112T170000
DTSTAMP:20260422T231536
CREATED:20260109T093141Z
LAST-MODIFIED:20260113T140920Z
UID:20694-1768233600-1768237200@www.math.ens.psl.eu
SUMMARY:Rémi Guénet : Cycles limites et géométrie o-minimale
DESCRIPTION:Les cycles limites d’un champ de vecteurs planaire sont les lieux auxquels le champ de vecteur change de comportement topologique. Ainsi\, le nombre de ces cycles limites peut être vu comme une mesure de la complexité topologique du champ de vecteurs en question. Étant donné une famille de champs de vecteurs\, on peut alors se demander s’il existe une borne uniforme pour le nombre de leurs cycles limites. En particulier\, la seconde partie du 16ème problème de Hilbert demande de traiter le cas des familles de champs de vecteurs polynomiaux de degré borné. Dans cet exposé\, on s’intéressera au lien entre ce type de questions et la géométrie o-minimale\, qui peut être pensé comme une généralisation de la géométrie analytique réelle.
URL:https://www.math.ens.psl.eu/evenement/remi-guenet-cycles-limites-et-geometrie-o-minimale/
LOCATION:Salle W
CATEGORIES:Colloquium doctorant
END:VEVENT
BEGIN:VEVENT
DTSTART;TZID=Europe/Paris:20260126T160000
DTEND;TZID=Europe/Paris:20260126T170000
DTSTAMP:20260422T231536
CREATED:20260123T094505Z
LAST-MODIFIED:20260123T101726Z
UID:20850-1769443200-1769446800@www.math.ens.psl.eu
SUMMARY:Alexis Metz-Donnadieu : Probabilité et combinatoire du profil vertical des arbres étiquetés
DESCRIPTION:Les modèles d’arbres plans étiquetés (c’est à dire des arbres plans finis dont les sommets portent des étiquettes entières) et plus généralement les modèles de processus de branchement spatiaux sont aujourd’hui devenus incontournables en probabilité et en combinatoire (marche aléatoires branchantes\, superprocessus\, modèles de particules…). Un enjeu important pour étudier ces arbres étiquetés est de comprendre le profil vertical qui correspond au processus comptant pour chaque entier k le nombre de sommets d’étiquette k. Il correspond grosso modo à la mesure d’occupation du processus branchant encodé par l’arbre. Nous nous proposons de faire un petit tour d’horizon non exhaustif de résultats anciens et nouveaux concernant les propriétés probabilistes du profil vertical (limite d’échelle\, propriété de Markov\, dénombrement…).
URL:https://www.math.ens.psl.eu/evenement/alexis-metz-donnadieu-probabilite-et-combinatoire-du-profil-vertical-des-arbres-etiquete/
LOCATION:Salle W
CATEGORIES:Colloquium doctorant
END:VEVENT
END:VCALENDAR