BEGIN:VCALENDAR
VERSION:2.0
PRODID:-//Département de mathématiques et applications - ECPv6.2.2//NONSGML v1.0//EN
CALSCALE:GREGORIAN
METHOD:PUBLISH
X-WR-CALNAME:Département de mathématiques et applications
X-ORIGINAL-URL:https://www.math.ens.psl.eu
X-WR-CALDESC:évènements pour Département de mathématiques et applications
REFRESH-INTERVAL;VALUE=DURATION:PT1H
X-Robots-Tag:noindex
X-PUBLISHED-TTL:PT1H
BEGIN:VTIMEZONE
TZID:Europe/Paris
BEGIN:DAYLIGHT
TZOFFSETFROM:+0100
TZOFFSETTO:+0200
TZNAME:CEST
DTSTART:20100328T010000
END:DAYLIGHT
BEGIN:STANDARD
TZOFFSETFROM:+0200
TZOFFSETTO:+0100
TZNAME:CET
DTSTART:20101031T010000
END:STANDARD
END:VTIMEZONE
BEGIN:VEVENT
DTSTART;TZID=Europe/Paris:20100113T170000
DTEND;TZID=Europe/Paris:20100113T170000
DTSTAMP:20260419T202306
CREATED:20100113T160000Z
LAST-MODIFIED:20211028T100214Z
UID:8779-1263402000-1263402000@www.math.ens.psl.eu
SUMMARY:Lignes géodésiques et analyse d'images
DESCRIPTION:Lignes géodésiques et analyse d’images
URL:https://www.math.ens.psl.eu/evenement/lignes-geodesiques-et-analyse-dimages/
LOCATION:ENS (amphithéâtre Galois sous la bibliothèque de mathématique)
CATEGORIES:ANNÉE 2009-2010,Archives Séminaire « Des mathématiques »,Séminaire Des mathématiques
END:VEVENT
BEGIN:VEVENT
DTSTART;TZID=Europe/Paris:20100127T170000
DTEND;TZID=Europe/Paris:20100127T170000
DTSTAMP:20260419T202306
CREATED:20100127T160000Z
LAST-MODIFIED:20211028T100205Z
UID:8778-1264611600-1264611600@www.math.ens.psl.eu
SUMMARY:Le problème Netflix - un tout autre problème à un million de dollars
DESCRIPTION:En octobre 2006\, la société californienne Netflix\, spécialisée dans la location de DVD\, a proposé le problème suivant : partant d’un dataset (rendu public) comprenant 100 000 000 notes attribuées par 500 000 utilisateurs à 18 000 films\, comment prédire efficacement les futures notes données par ces mêmes utilisateurs ? Un prix d’un million de dollars était offert à la première équipe atteignant un certain seuil de précision. La compétition\, ouverte à tous\, ne s’est achevée qu’à l’été 2009. Nous donnerons quelques indications sur les méthodes utilisées par les vainqueurs et\, plus généralement\, sur les enjeux spécifiques des problèmes de prédiction portant sur des grands volumes de données. Moins sérieux en apparence que les sept Millenium Prize Problems de la Fondation Clay (également dotés d’un million de dollars)\, le problème Netflix est cependant représentatif d’une branche très active des mathématiques contemporaines et\, plus généralement\, d’une révolution dans la façon d’aborder certaines questions scientifiques fondamentales. Il mérite à ce titre la curiosité de tous les mathématiciens (purs et impurs).\n 
URL:https://www.math.ens.psl.eu/evenement/le-probleme-netflix-un-tout-autre-probleme-a-un-million-de-dollars/
LOCATION:ENS (amphithéâtre Galois sous la bibliothèque de mathématique)
CATEGORIES:ANNÉE 2009-2010,Archives Séminaire « Des mathématiques »,Séminaire Des mathématiques
END:VEVENT
END:VCALENDAR