BEGIN:VCALENDAR
VERSION:2.0
PRODID:-//Département de mathématiques et applications - ECPv6.2.2//NONSGML v1.0//EN
CALSCALE:GREGORIAN
METHOD:PUBLISH
X-ORIGINAL-URL:https://www.math.ens.psl.eu
X-WR-CALDESC:évènements pour Département de mathématiques et applications
REFRESH-INTERVAL;VALUE=DURATION:PT1H
X-Robots-Tag:noindex
X-PUBLISHED-TTL:PT1H
BEGIN:VTIMEZONE
TZID:Europe/Paris
BEGIN:DAYLIGHT
TZOFFSETFROM:+0100
TZOFFSETTO:+0200
TZNAME:CEST
DTSTART:20090329T010000
END:DAYLIGHT
BEGIN:STANDARD
TZOFFSETFROM:+0200
TZOFFSETTO:+0100
TZNAME:CET
DTSTART:20091025T010000
END:STANDARD
END:VTIMEZONE
BEGIN:VEVENT
DTSTART;TZID=Europe/Paris:20091118T170000
DTEND;TZID=Europe/Paris:20091118T170000
DTSTAMP:20260420T042751
CREATED:20091118T160000Z
LAST-MODIFIED:20211028T100453Z
UID:8782-1258563600-1258563600@www.math.ens.psl.eu
SUMMARY:Formes normales\, phénomènes au delà de tout ordre et sommation des astronomes.
DESCRIPTION:Formes normales\, phénomènes au delà de tout ordreet sommation des astronomes.
URL:https://www.math.ens.psl.eu/evenement/formes-normales-phenomenes-au-dela-de-tout-ordre-et-sommation-des-astronomes/
LOCATION:ENS (amphithéâtre Galois sous la bibliothèque de mathématique)
CATEGORIES:ANNÉE 2009-2010,Archives Séminaire « Des mathématiques »,Séminaire Des mathématiques
END:VEVENT
END:VCALENDAR