BEGIN:VCALENDAR
VERSION:2.0
PRODID:-//Département de mathématiques et applications - ECPv6.2.2//NONSGML v1.0//EN
CALSCALE:GREGORIAN
METHOD:PUBLISH
X-ORIGINAL-URL:https://www.math.ens.psl.eu
X-WR-CALDESC:évènements pour Département de mathématiques et applications
REFRESH-INTERVAL;VALUE=DURATION:PT1H
X-Robots-Tag:noindex
X-PUBLISHED-TTL:PT1H
BEGIN:VTIMEZONE
TZID:Europe/Paris
BEGIN:DAYLIGHT
TZOFFSETFROM:+0100
TZOFFSETTO:+0200
TZNAME:CEST
DTSTART:20240331T010000
END:DAYLIGHT
BEGIN:STANDARD
TZOFFSETFROM:+0200
TZOFFSETTO:+0100
TZNAME:CET
DTSTART:20241027T010000
END:STANDARD
END:VTIMEZONE
BEGIN:VEVENT
DTSTART;TZID=Europe/Paris:20240110T131500
DTEND;TZID=Europe/Paris:20240110T141500
DTSTAMP:20260424T030052
CREATED:20240110T115345Z
LAST-MODIFIED:20240110T115345Z
UID:17120-1704892500-1704896100@www.math.ens.psl.eu
SUMMARY:Rencontres du tième type
DESCRIPTION:Le « problème des rencontres »  est le calcul de la probabilité qu’une permutation prise au hasard dans le groupe symétrique ait un nombre donné de points fixes. Via le théorème de Cebotarev\, cette quantité apparaît en arithmétique comme la proportion de nombres premiers pour lesquels la réduction modulo p d’un polynôme à coefficients entiers génériques a un nombre donné de racines. J’expliquerai une démonstration exotique du problème de rencontres\, basée sur les représentations du « groupe symétrique » S_t en un nombre complexe t d’éléments\, et j’énoncerai une conjecture sur les zéros de pseudo-polynômes dans l’esprit du théorème de Cebotarev.  \nIl s’agit d’un travail en collaboration avec Arthur Forey et Emmanuel Kowalski.
URL:https://www.math.ens.psl.eu/evenement/rencontre-du-tieme-type/
LOCATION:amphi Galois NIR
CATEGORIES:ANNÉE 2023-2024
END:VEVENT
END:VCALENDAR