BEGIN:VCALENDAR
VERSION:2.0
PRODID:-//Département de mathématiques et applications - ECPv6.2.2//NONSGML v1.0//EN
CALSCALE:GREGORIAN
METHOD:PUBLISH
X-ORIGINAL-URL:https://www.math.ens.psl.eu
X-WR-CALDESC:évènements pour Département de mathématiques et applications
REFRESH-INTERVAL;VALUE=DURATION:PT1H
X-Robots-Tag:noindex
X-PUBLISHED-TTL:PT1H
BEGIN:VTIMEZONE
TZID:Europe/Paris
BEGIN:DAYLIGHT
TZOFFSETFROM:+0100
TZOFFSETTO:+0200
TZNAME:CEST
DTSTART:20240331T010000
END:DAYLIGHT
BEGIN:STANDARD
TZOFFSETFROM:+0200
TZOFFSETTO:+0100
TZNAME:CET
DTSTART:20241027T010000
END:STANDARD
END:VTIMEZONE
BEGIN:VEVENT
DTSTART;TZID=Europe/Paris:20240124T131500
DTEND;TZID=Europe/Paris:20240124T141500
DTSTAMP:20260424T030052
CREATED:20240112T103746Z
LAST-MODIFIED:20240112T103746Z
UID:17137-1706102100-1706105700@www.math.ens.psl.eu
SUMMARY:Ensembles de Cantor invariants des dynamiques conservatives
DESCRIPTION:Un système dynamique est un système qui évolue au cours du temps\, souvent modélisé par l’itération d’une application d’un ensemble X dans lui-même. Beaucoup de systèmes dynamiques naturels sont modélisés par une dynamique dite conservative\, les plus simples de ces dynamiques étant les difféomorphismes des surfaces qui préservent l’aire. \n\nLes premiers ensembles invariants étudiés pour ces dynamiques sont en général les orbites périodiques\, mais nous allons nous intéresser à des ensembles invariants un peu plus complexes qui sont des ensembles de Cantor. Nous en décrirons de deux types\, et expliquerons comment ils apparaissent de manière indissociable des orbites périodiques.
URL:https://www.math.ens.psl.eu/evenement/ensembles-de-cantor-invariants-des-dynamiques-conservatives/
LOCATION:amphi Galois NIR
CATEGORIES:ANNÉE 2023-2024
END:VEVENT
END:VCALENDAR