BEGIN:VCALENDAR
VERSION:2.0
PRODID:-//Département de mathématiques et applications - ECPv6.2.2//NONSGML v1.0//EN
CALSCALE:GREGORIAN
METHOD:PUBLISH
X-ORIGINAL-URL:https://www.math.ens.psl.eu
X-WR-CALDESC:évènements pour Département de mathématiques et applications
REFRESH-INTERVAL;VALUE=DURATION:PT1H
X-Robots-Tag:noindex
X-PUBLISHED-TTL:PT1H
BEGIN:VTIMEZONE
TZID:Europe/Paris
BEGIN:DAYLIGHT
TZOFFSETFROM:+0100
TZOFFSETTO:+0200
TZNAME:CEST
DTSTART:20240331T010000
END:DAYLIGHT
BEGIN:STANDARD
TZOFFSETFROM:+0200
TZOFFSETTO:+0100
TZNAME:CET
DTSTART:20241027T010000
END:STANDARD
END:VTIMEZONE
BEGIN:VEVENT
DTSTART;TZID=Europe/Paris:20240214T131500
DTEND;TZID=Europe/Paris:20240214T141500
DTSTAMP:20260424T030226
CREATED:20240209T204645Z
LAST-MODIFIED:20240209T204645Z
UID:17239-1707916500-1707920100@www.math.ens.psl.eu
SUMMARY:Invariants topologique et structures de groupes sur les sphères
DESCRIPTION:Le but de l’exposé sera de présenter un théorème d’Adams énonçant quelles sphères peuvent êtres munies d’une structure de groupe topologique\, prétexte à introduire l’idée d’invariant-et de leur structure-topologiques (en l’occurrence la K-théorie).
URL:https://www.math.ens.psl.eu/evenement/invariants-topologiques-et-structures-de-groupes-sur-les-spheres/
LOCATION:amphi Galois NIR
CATEGORIES:ANNÉE 2023-2024
END:VEVENT
END:VCALENDAR