BEGIN:VCALENDAR
VERSION:2.0
PRODID:-//Département de mathématiques et applications - ECPv6.2.2//NONSGML v1.0//EN
CALSCALE:GREGORIAN
METHOD:PUBLISH
X-ORIGINAL-URL:https://www.math.ens.psl.eu
X-WR-CALDESC:évènements pour Département de mathématiques et applications
REFRESH-INTERVAL;VALUE=DURATION:PT1H
X-Robots-Tag:noindex
X-PUBLISHED-TTL:PT1H
BEGIN:VTIMEZONE
TZID:Europe/Paris
BEGIN:DAYLIGHT
TZOFFSETFROM:+0100
TZOFFSETTO:+0200
TZNAME:CEST
DTSTART:20250330T010000
END:DAYLIGHT
BEGIN:STANDARD
TZOFFSETFROM:+0200
TZOFFSETTO:+0100
TZNAME:CET
DTSTART:20251026T010000
END:STANDARD
END:VTIMEZONE
BEGIN:VEVENT
DTSTART;TZID=Europe/Paris:20250929T110000
DTEND;TZID=Europe/Paris:20250929T120000
DTSTAMP:20260422T021830
CREATED:20250917T120005Z
LAST-MODIFIED:20251009T074203Z
UID:19844-1759143600-1759147200@www.math.ens.psl.eu
SUMMARY:Thomas Leblé - Ordre dans le désordre pour les processus ponctuels
DESCRIPTION:Motivé par l’étude des gaz de Coulomb 2d\, dont le portrait de phase demeure largement mystérieux\, je présenterai trois critères “d’ordre dans le désordre” pour des processus ponctuels: hyperuniformité\, rigidité à la Ghosh-Peres\, et distance de transport à la mesure de Lebesgue. Je mentionnerai quelques implications générales entre ces notions\, et tâcherai de les illustrer par des exemples “concrets” et parfois surprenants. 13 octobre 2025. Titus Lupu (CNRS\, SU/LPSM). Lien entre la renormalisation de Wick et la géométrie fractale.
URL:https://www.math.ens.psl.eu/evenement/ordre-dans-le-desordre-pour-les-processus-ponctuels/
LOCATION:DMA Salle W
CATEGORIES:Séminaire informel de probabilités
END:VEVENT
END:VCALENDAR