BEGIN:VCALENDAR
VERSION:2.0
PRODID:-//Département de mathématiques et applications - ECPv6.2.2//NONSGML v1.0//EN
CALSCALE:GREGORIAN
METHOD:PUBLISH
X-WR-CALNAME:Département de mathématiques et applications
X-ORIGINAL-URL:https://www.math.ens.psl.eu
X-WR-CALDESC:évènements pour Département de mathématiques et applications
REFRESH-INTERVAL;VALUE=DURATION:PT1H
X-Robots-Tag:noindex
X-PUBLISHED-TTL:PT1H
BEGIN:VTIMEZONE
TZID:Europe/Paris
BEGIN:DAYLIGHT
TZOFFSETFROM:+0100
TZOFFSETTO:+0200
TZNAME:CEST
DTSTART:20260329T010000
END:DAYLIGHT
BEGIN:STANDARD
TZOFFSETFROM:+0200
TZOFFSETTO:+0100
TZNAME:CET
DTSTART:20261025T010000
END:STANDARD
END:VTIMEZONE
BEGIN:VEVENT
DTSTART;TZID=Europe/Paris:20260216T110000
DTEND;TZID=Europe/Paris:20260216T120000
DTSTAMP:20260420T211034
CREATED:20260209T100005Z
LAST-MODIFIED:20260209T100027Z
UID:20985-1771239600-1771243200@www.math.ens.psl.eu
SUMMARY:Anne-Laure Basdevant : « Problème d’Ulam et lignes d’Hammersley »
DESCRIPTION:Le problème d’Ulam consiste à déterminer la longueur de la plus longue sous-suite croissante d’une permutation aléatoire de taille n. Diverses méthodes ont permis de montrer que cette longueur est asymptotiquement équivalente à 2\sqrt{n}. Dans cet exposé\, je présenterai une preuve de Cator et Groeneboom reposant sur un couplage probabiliste avec un modèle stationnaire. Je montrerai également comment cette approche peut être adaptée pour traiter d’autres problèmes connexes.
URL:https://www.math.ens.psl.eu/evenement/anne-laure-basdevant-probleme-dulam-et-lignes-dhammersley/
LOCATION:Salle W (ENS)
CATEGORIES:Séminaire informel de probabilités
END:VEVENT
END:VCALENDAR