BEGIN:VCALENDAR
VERSION:2.0
PRODID:-//Département de mathématiques et applications - ECPv6.2.2//NONSGML v1.0//EN
CALSCALE:GREGORIAN
METHOD:PUBLISH
X-WR-CALNAME:Département de mathématiques et applications
X-ORIGINAL-URL:https://www.math.ens.psl.eu
X-WR-CALDESC:évènements pour Département de mathématiques et applications
REFRESH-INTERVAL;VALUE=DURATION:PT1H
X-Robots-Tag:noindex
X-PUBLISHED-TTL:PT1H
BEGIN:VTIMEZONE
TZID:Europe/Paris
BEGIN:DAYLIGHT
TZOFFSETFROM:+0100
TZOFFSETTO:+0200
TZNAME:CEST
DTSTART:20260329T010000
END:DAYLIGHT
BEGIN:STANDARD
TZOFFSETFROM:+0200
TZOFFSETTO:+0100
TZNAME:CET
DTSTART:20261025T010000
END:STANDARD
END:VTIMEZONE
BEGIN:VEVENT
DTSTART;TZID=Europe/Paris:20260105T110000
DTEND;TZID=Europe/Paris:20260105T120000
DTSTAMP:20260421T123348
CREATED:20260105T104155Z
LAST-MODIFIED:20260105T104216Z
UID:20653-1767610800-1767614400@www.math.ens.psl.eu
SUMMARY:Clément Cosco : « Champs log-corrélés et marches branchantes »
DESCRIPTION:Il existe des objets mathématiques paraissant tout à fait distincts\, comme certaines matrices aléatoires\, une dynamique de populations\, une équation aux dérivées partielles stochastique ou encore la fonction Zeta de Riemann\, qui partagent des propriétés asymptotiques analogues. Ce qui les relie est l’apparition d’un champ log-corrélé décrivant leurs statistiques à grande échelle\, ou de manière équivalente\, l’existence d’une structure de marche branchante sous-jacente. Dans cet exposé\, j’introduirai certains de ces modèles et tenterai de présenter leurs similitudes ainsi qu’une sélection de résultats connus.
URL:https://www.math.ens.psl.eu/evenement/clement-cosco-champs-log-correles-et-marches-branchantes/
LOCATION:DMA Salle W
CATEGORIES:Séminaire informel de probabilités
END:VEVENT
END:VCALENDAR